BEGIN:VCALENDAR
VERSION:2.0
PRODID:-//Volvo Construction Equipment &amp; Services - ECPv6.15.20//NONSGML v1.0//EN
CALSCALE:GREGORIAN
METHOD:PUBLISH
X-ORIGINAL-URL:https://www.vcesvolvo.com
X-WR-CALDESC:Events for Volvo Construction Equipment &amp; Services
REFRESH-INTERVAL;VALUE=DURATION:PT1H
X-Robots-Tag:noindex
X-PUBLISHED-TTL:PT1H
BEGIN:VTIMEZONE
TZID:America/Los_Angeles
BEGIN:DAYLIGHT
TZOFFSETFROM:-0800
TZOFFSETTO:-0700
TZNAME:PDT
DTSTART:20230312T100000
END:DAYLIGHT
BEGIN:STANDARD
TZOFFSETFROM:-0700
TZOFFSETTO:-0800
TZNAME:PST
DTSTART:20231105T090000
END:STANDARD
BEGIN:DAYLIGHT
TZOFFSETFROM:-0800
TZOFFSETTO:-0700
TZNAME:PDT
DTSTART:20240310T100000
END:DAYLIGHT
BEGIN:STANDARD
TZOFFSETFROM:-0700
TZOFFSETTO:-0800
TZNAME:PST
DTSTART:20241103T090000
END:STANDARD
BEGIN:DAYLIGHT
TZOFFSETFROM:-0800
TZOFFSETTO:-0700
TZNAME:PDT
DTSTART:20250309T100000
END:DAYLIGHT
BEGIN:STANDARD
TZOFFSETFROM:-0700
TZOFFSETTO:-0800
TZNAME:PST
DTSTART:20251102T090000
END:STANDARD
END:VTIMEZONE
BEGIN:VEVENT
DTSTART;TZID=America/Los_Angeles:20240507T080000
DTEND;TZID=America/Los_Angeles:20240509T170000
DTSTAMP:20260425T051246
CREATED:20231212T170812Z
LAST-MODIFIED:20231212T170812Z
UID:10000046-1715068800-1715274000@www.vcesvolvo.com
SUMMARY:Waste Expo
DESCRIPTION:As the biggest event of its kind here in North America\, WasteExpo is all things waste\, recycling\, organics\, and sustainability. From May 7 to May 9\, head to Las Vegas and stop by our booth for a chance to talk with our Volvo experts. Get a firsthand look at our exclusive waste packages and application\, designed for your job site. \nSee you at WasteExpo 2024!  \n\n\n\n\n\n\n\n\n\n\n\n\n\nSHOW INFORMATION\nMay 7 – 9\, 2024\nLas Vegas\, NV \nLas Vegas Convention Center\, West Hall\n300 Convention Center Dr. \nWasteExpo.com
URL:https://www.vcesvolvo.com/event/waste-expo/
LOCATION:Las Vegas Convention Center\, West Hall\, 300 Convention Center Dr.\, Las VEgas\, NV\, United States
ATTACH;FMTTYPE=image/jpeg:https://www.vcesvolvo.com/wp-content/uploads/2023/12/waste-expo-logo-570x294-1.jpg
END:VEVENT
END:VCALENDAR