BEGIN:VCALENDAR
VERSION:2.0
PRODID:-//Volvo Construction Equipment &amp; Services - ECPv6.15.20//NONSGML v1.0//EN
CALSCALE:GREGORIAN
METHOD:PUBLISH
X-WR-CALNAME:Volvo Construction Equipment &amp; Services
X-ORIGINAL-URL:https://www.vcesvolvo.com
X-WR-CALDESC:Events for Volvo Construction Equipment &amp; Services
REFRESH-INTERVAL;VALUE=DURATION:PT1H
X-Robots-Tag:noindex
X-PUBLISHED-TTL:PT1H
BEGIN:VTIMEZONE
TZID:America/Los_Angeles
BEGIN:DAYLIGHT
TZOFFSETFROM:-0800
TZOFFSETTO:-0700
TZNAME:PDT
DTSTART:20240310T100000
END:DAYLIGHT
BEGIN:STANDARD
TZOFFSETFROM:-0700
TZOFFSETTO:-0800
TZNAME:PST
DTSTART:20241103T090000
END:STANDARD
BEGIN:DAYLIGHT
TZOFFSETFROM:-0800
TZOFFSETTO:-0700
TZNAME:PDT
DTSTART:20250309T100000
END:DAYLIGHT
BEGIN:STANDARD
TZOFFSETFROM:-0700
TZOFFSETTO:-0800
TZNAME:PST
DTSTART:20251102T090000
END:STANDARD
BEGIN:DAYLIGHT
TZOFFSETFROM:-0800
TZOFFSETTO:-0700
TZNAME:PDT
DTSTART:20260308T100000
END:DAYLIGHT
BEGIN:STANDARD
TZOFFSETFROM:-0700
TZOFFSETTO:-0800
TZNAME:PST
DTSTART:20261101T090000
END:STANDARD
END:VTIMEZONE
BEGIN:VEVENT
DTSTART;TZID=America/Los_Angeles:20250918T103000
DTEND;TZID=America/Los_Angeles:20250918T153000
DTSTAMP:20260422T015346
CREATED:20250902T182909Z
LAST-MODIFIED:20250902T182909Z
UID:10000073-1758191400-1758209400@www.vcesvolvo.com
SUMMARY:Yanmar CE Field Day
DESCRIPTION:Join us for a full day of hands-on experiences\, equipment demos\, and connection with the Yanmar CE community!\n\nWhat to Expect:\n\nExplore Yanmar CE full line of compact equipment\nParticipate in hands-on training and guided walkaround tours\nTest out machines in our demo zone\nMeet and network with YANMAR CE Product experts and local dealers\nY.O.U. Club – Sign up & join the community\, which includes an online platform and various skills challenges designed to test your operator abilities.\nEnjoy Free Food & Drinks! \nGRAND PRIZE DRAWING – If you RSVP and attend the event\, you’ll be entered in a chance to win a YANMAR branded YETI cooler and a Blackstone 36-inch Omnivore Griddle – a perfect combo for BBQ lovers!\n$1\,000 attachment giveaway*\n\n*up to $1\,000 credit towards the purchase of a new MEX or CTL attachment with purchase of new machine. Credit must be redeemed by 11/30/2025.\n \nKindly RSVP by Sunday Sept 14th\, click on the link below and register NOW! \n\nhttps://yanmarcefielddayCA.rsvpify.com\n\nFeel free to bring the whole family for a day of learning and fun!\nImportant Reminder: For those participating in equipment demos\, please wear long pants and closed-toe work boots. Safety vests will be provided on-site.\n\nWe look forward to seeing you at the YANMAR CE Field Day!
URL:https://www.vcesvolvo.com/event/yanmar-ce-field-day/
LOCATION:Alameda County Fairgrounds\, 2005 Valley Ave\, Pleasanton\, CA\, 94566\, United States
ATTACH;FMTTYPE=image/png:https://www.vcesvolvo.com/wp-content/uploads/2025/09/yanmar.png
END:VEVENT
END:VCALENDAR