BEGIN:VCALENDAR
VERSION:2.0
PRODID:-//Volvo Construction Equipment &amp; Services - ECPv6.15.20//NONSGML v1.0//EN
CALSCALE:GREGORIAN
METHOD:PUBLISH
X-WR-CALNAME:Volvo Construction Equipment &amp; Services
X-ORIGINAL-URL:https://www.vcesvolvo.com
X-WR-CALDESC:Events for Volvo Construction Equipment &amp; Services
REFRESH-INTERVAL;VALUE=DURATION:PT1H
X-Robots-Tag:noindex
X-PUBLISHED-TTL:PT1H
BEGIN:VTIMEZONE
TZID:America/Los_Angeles
BEGIN:DAYLIGHT
TZOFFSETFROM:-0800
TZOFFSETTO:-0700
TZNAME:PDT
DTSTART:20220313T100000
END:DAYLIGHT
BEGIN:STANDARD
TZOFFSETFROM:-0700
TZOFFSETTO:-0800
TZNAME:PST
DTSTART:20221106T090000
END:STANDARD
BEGIN:DAYLIGHT
TZOFFSETFROM:-0800
TZOFFSETTO:-0700
TZNAME:PDT
DTSTART:20230312T100000
END:DAYLIGHT
BEGIN:STANDARD
TZOFFSETFROM:-0700
TZOFFSETTO:-0800
TZNAME:PST
DTSTART:20231105T090000
END:STANDARD
BEGIN:DAYLIGHT
TZOFFSETFROM:-0800
TZOFFSETTO:-0700
TZNAME:PDT
DTSTART:20240310T100000
END:DAYLIGHT
BEGIN:STANDARD
TZOFFSETFROM:-0700
TZOFFSETTO:-0800
TZNAME:PST
DTSTART:20241103T090000
END:STANDARD
END:VTIMEZONE
BEGIN:VEVENT
DTSTART;TZID=America/Los_Angeles:20230517T100000
DTEND;TZID=America/Los_Angeles:20230517T140000
DTSTAMP:20260422T032855
CREATED:20230505T190552Z
LAST-MODIFIED:20230505T190552Z
UID:10000040-1684317600-1684332000@www.vcesvolvo.com
SUMMARY:NorCal Electric Open House
DESCRIPTION:Join us for the NorCal Electric Open House on May 16th and 17th at our VCES San Leandro location! Discover the latest innovations in electric construction equipment and learn how you can save money and reduce emissions with our electric solutions. Don’t miss out on this exciting event!
URL:https://www.vcesvolvo.com/event/norcal-electric-open-house/2023-05-17/
LOCATION:VCES San Leandro\, 1944 Marina Blvd\, San Leandro\, CA\, 94577\, United States
CATEGORIES:Electric
ATTACH;FMTTYPE=image/png:https://www.vcesvolvo.com/wp-content/uploads/2023/05/NorCal-Electric-Open-House_San-Leandro-Facebook-Cover.png
ORGANIZER;CN="VCES":MAILTO:marketing@vcesvolvo.com
END:VEVENT
BEGIN:VEVENT
DTSTART;TZID=America/Los_Angeles:20230516T100000
DTEND;TZID=America/Los_Angeles:20230516T140000
DTSTAMP:20260422T032855
CREATED:20230505T190552Z
LAST-MODIFIED:20230505T190552Z
UID:10000039-1684231200-1684245600@www.vcesvolvo.com
SUMMARY:NorCal Electric Open House
DESCRIPTION:Join us for the NorCal Electric Open House on May 16th and 17th at our VCES San Leandro location! Discover the latest innovations in electric construction equipment and learn how you can save money and reduce emissions with our electric solutions. Don’t miss out on this exciting event!
URL:https://www.vcesvolvo.com/event/norcal-electric-open-house/2023-05-16/
LOCATION:VCES San Leandro\, 1944 Marina Blvd\, San Leandro\, CA\, 94577\, United States
CATEGORIES:Electric
ATTACH;FMTTYPE=image/png:https://www.vcesvolvo.com/wp-content/uploads/2023/05/NorCal-Electric-Open-House_San-Leandro-Facebook-Cover.png
ORGANIZER;CN="VCES":MAILTO:marketing@vcesvolvo.com
END:VEVENT
END:VCALENDAR